BEGIN:VCALENDAR
VERSION:2.0
PRODID:-//STAR LIGHT INTERNATIONAL KINDERGARTEN &amp; SCHOOL/ 별빛국제학교 - ECPv6.15.20//NONSGML v1.0//EN
CALSCALE:GREGORIAN
METHOD:PUBLISH
X-ORIGINAL-URL:https://siksvn.com
X-WR-CALDESC:Events for STAR LIGHT INTERNATIONAL KINDERGARTEN &amp; SCHOOL/ 별빛국제학교
REFRESH-INTERVAL;VALUE=DURATION:PT1H
X-Robots-Tag:noindex
X-PUBLISHED-TTL:PT1H
BEGIN:VTIMEZONE
TZID:UTC
BEGIN:STANDARD
TZOFFSETFROM:+0000
TZOFFSETTO:+0000
TZNAME:UTC
DTSTART:20220101T000000
END:STANDARD
END:VTIMEZONE
BEGIN:VEVENT
DTSTART;VALUE=DATE:20230221
DTEND;VALUE=DATE:20230222
DTSTAMP:20260424T040535
CREATED:20220316T225037Z
LAST-MODIFIED:20220316T225037Z
UID:103876-1676937600-1677023999@siksvn.com
SUMMARY:Graduation
DESCRIPTION:
URL:https://siksvn.com/event/graduation/
CATEGORIES:Kindergarten,Elementary,Junior High
END:VEVENT
END:VCALENDAR