BEGIN:VCALENDAR
VERSION:2.0
PRODID:-//STAR LIGHT INTERNATIONAL KINDERGARTEN &amp; SCHOOL/ 별빛국제학교 - ECPv6.15.20//NONSGML v1.0//EN
CALSCALE:GREGORIAN
METHOD:PUBLISH
X-WR-CALNAME:STAR LIGHT INTERNATIONAL KINDERGARTEN &amp; SCHOOL/ 별빛국제학교
X-ORIGINAL-URL:https://siksvn.com
X-WR-CALDESC:Events for STAR LIGHT INTERNATIONAL KINDERGARTEN &amp; SCHOOL/ 별빛국제학교
REFRESH-INTERVAL;VALUE=DURATION:PT1H
X-Robots-Tag:noindex
X-PUBLISHED-TTL:PT1H
BEGIN:VTIMEZONE
TZID:Asia/Krasnoyarsk
BEGIN:STANDARD
TZOFFSETFROM:+0700
TZOFFSETTO:+0700
TZNAME:+07
DTSTART:20230101T000000
END:STANDARD
END:VTIMEZONE
BEGIN:VEVENT
DTSTART;VALUE=DATE:20240129
DTEND;VALUE=DATE:20240224
DTSTAMP:20260423T181625
CREATED:20230303T062437Z
LAST-MODIFIED:20230303T062437Z
UID:108587-1706486400-1708732799@siksvn.com
SUMMARY:Winter Vacation
DESCRIPTION:
URL:https://siksvn.com/event/winter-vacation/
END:VEVENT
END:VCALENDAR